BEGIN:VCALENDAR
VERSION:2.0
PRODID:-//Epicurean Santa Barbara - ECPv6.15.13//NONSGML v1.0//EN
CALSCALE:GREGORIAN
METHOD:PUBLISH
X-ORIGINAL-URL:https://epicureansb.com
X-WR-CALDESC:Events for Epicurean Santa Barbara
REFRESH-INTERVAL;VALUE=DURATION:PT1H
X-Robots-Tag:noindex
X-PUBLISHED-TTL:PT1H
BEGIN:VTIMEZONE
TZID:America/Los_Angeles
BEGIN:DAYLIGHT
TZOFFSETFROM:-0800
TZOFFSETTO:-0700
TZNAME:PDT
DTSTART:20210314T100000
END:DAYLIGHT
BEGIN:STANDARD
TZOFFSETFROM:-0700
TZOFFSETTO:-0800
TZNAME:PST
DTSTART:20211107T090000
END:STANDARD
BEGIN:DAYLIGHT
TZOFFSETFROM:-0800
TZOFFSETTO:-0700
TZNAME:PDT
DTSTART:20220313T100000
END:DAYLIGHT
BEGIN:STANDARD
TZOFFSETFROM:-0700
TZOFFSETTO:-0800
TZNAME:PST
DTSTART:20221106T090000
END:STANDARD
BEGIN:DAYLIGHT
TZOFFSETFROM:-0800
TZOFFSETTO:-0700
TZNAME:PDT
DTSTART:20230312T100000
END:DAYLIGHT
BEGIN:STANDARD
TZOFFSETFROM:-0700
TZOFFSETTO:-0800
TZNAME:PST
DTSTART:20231105T090000
END:STANDARD
END:VTIMEZONE
BEGIN:VEVENT
DTSTART;TZID=America/Los_Angeles:20220810T180000
DTEND;TZID=America/Los_Angeles:20220810T203000
DTSTAMP:20260422T155947
CREATED:20220715T170241Z
LAST-MODIFIED:20220723T145703Z
UID:10000085-1660154400-1660163400@epicureansb.com
SUMMARY:Group Dining at The Rare Society Steakhouse!
DESCRIPTION:Group Dining at The Rare Society Steakhouse!\n  \nJoin us for a Group Dining Experience at the newly opened Rare Society Steakhouse in the Funk Zone! Here’s your opportunity to experience the restaurant\, taste several of the menu items such as their Truffle butter Parker house rolls\, 40-Day Dry Aged NY Strip\, and Wood Fired Broccolini\, without breaking the bank!  \nThe pricing is a deposit that calculates a variety of dishes\, tax\, gratuity\, corkage\, and shared bottles from ESB’s Cellar!  ESB members Keith and Amy Robinson will choose a variety of appetizers\, steaks and sides\, suited to attendees’ preferences.    \n(Should we go over the per person amount\, we’ll simply split the remaining amount on bill\, but we’ll do our best to stay within the projected budget!) \nGuests are responsible for additional beverages. \nSimply make your way to the restaurant\, and enjoy the steakhouse experience with fellow members and founders Amy Baer and Keith Robinson.
URL:https://epicureansb.com/event/group-dining-at-the-rare-society-steakhouse/
LOCATION:The Rare Society\, 214 State Street\, Santa Barbara\, CA\, 93101\, United States
CATEGORIES:Dinner,Epicurean Santa Barbara
ATTACH;FMTTYPE=image/jpeg:https://epicureansb.com/wp-content/uploads/2022/07/o-1.jpg
ORGANIZER;CN="ESB":MAILTO:support@epicureansb.com
GEO:34.4145556;-119.6918679
X-APPLE-STRUCTURED-LOCATION;VALUE=URI;X-ADDRESS=The Rare Society 214 State Street Santa Barbara CA 93101 United States;X-APPLE-RADIUS=500;X-TITLE=214 State Street:geo:-119.6918679,34.4145556
END:VEVENT
END:VCALENDAR