BEGIN:VCALENDAR
VERSION:2.0
PRODID:-//Epicurean Santa Barbara - ECPv6.15.13//NONSGML v1.0//EN
CALSCALE:GREGORIAN
METHOD:PUBLISH
X-ORIGINAL-URL:https://epicureansb.com
X-WR-CALDESC:Events for Epicurean Santa Barbara
REFRESH-INTERVAL;VALUE=DURATION:PT1H
X-Robots-Tag:noindex
X-PUBLISHED-TTL:PT1H
BEGIN:VTIMEZONE
TZID:America/Los_Angeles
BEGIN:DAYLIGHT
TZOFFSETFROM:-0800
TZOFFSETTO:-0700
TZNAME:PDT
DTSTART:20170312T100000
END:DAYLIGHT
BEGIN:STANDARD
TZOFFSETFROM:-0700
TZOFFSETTO:-0800
TZNAME:PST
DTSTART:20171105T090000
END:STANDARD
BEGIN:DAYLIGHT
TZOFFSETFROM:-0800
TZOFFSETTO:-0700
TZNAME:PDT
DTSTART:20180311T100000
END:DAYLIGHT
BEGIN:STANDARD
TZOFFSETFROM:-0700
TZOFFSETTO:-0800
TZNAME:PST
DTSTART:20181104T090000
END:STANDARD
BEGIN:DAYLIGHT
TZOFFSETFROM:-0800
TZOFFSETTO:-0700
TZNAME:PDT
DTSTART:20190310T100000
END:DAYLIGHT
BEGIN:STANDARD
TZOFFSETFROM:-0700
TZOFFSETTO:-0800
TZNAME:PST
DTSTART:20191103T090000
END:STANDARD
END:VTIMEZONE
BEGIN:VEVENT
DTSTART;TZID=America/Los_Angeles:20180605T180000
DTEND;TZID=America/Los_Angeles:20180605T210000
DTSTAMP:20260422T192434
CREATED:20180504T204821Z
LAST-MODIFIED:20180619T193040Z
UID:10000006-1528221600-1528232400@epicureansb.com
SUMMARY:Chef's Table: Notte di Ravioli!
DESCRIPTION:Join the waitlist now! Click here to email ESB! \nEncore Event! Due to the overwhelming demand for Notte di Ravioli\, we are brining Chef Glazer back for an encore dinner\, so all of those who could not reserve a seat at the first dinner can now enjoy this wonderful dinner! \nCome and dine with Chef and Pasta Maestro Michael Glazer and ESB members for a fun and artisanal dinner featuring Chef’s creative and delicious hand crafted ravioli and an amazing supporting cast of proteins and veggie courses. This nine-course meal will feature multiple courses of raviolis with unique fillings and sauces\, accompanied by farm fresh seasonal dishes. Chef Michael specializes in pasta making and showcases his passion through pop-up dinners where his masterful ability to craft the finest pastas is a super treat for his dinner guests. Get to know Chef Michael and see him in action as he prepares a beautiful dinner for Epicurean Santa Barbara. \nThis dinner is BYOB!\nPhotos by Paul Wellman \nCome For Food. Hang with Chef!\n \n\n\nMENU\n\n\nCUCUMBER GAZPACHO almond/aleppo/salsa verdeRAVIOLO caramelized fennel/fig/lambchopper/hazelnut brown butterSALMON CRUDO* preserved lemon/smoked salt/chiveRAVIOLI* brisket/crispy onion/mustard greens/walnut gremolataSPRING VEGETABLES green garlic butter/meyer lemon/nettle pureeRAVIOLI windrose farm fairy squash/shallot-herb creamSLOW ROASTED PORK BELLY* sweet potato puree/braising greens/natural jusCITRUS SORBET\nRAVIOLO handlebar ethiopian coffee/bellwhether farms ricotta/twenty-four blackbirds chocolate\n*Vegetarian Substitutions Available\n\nThe “Chef’s Table” events are intimate dinners held at either private homes or in restaurants and feature an acclaimed chef.  The chef has the opportunity to express his/her personal style of cooking\, all to the benefit of our members!  He/she will feature favorite dishes\, ingredients\, and techniques\, and will greet guests throughout the evening\, providing stories\, descriptions\, and conversation!  Seats for these dinners are very limited in order to maintain an intimate\, immersive social experience.\n\nChef’s Table Series: Wine\, Dine and Let the Chef Shine!
URL:https://epicureansb.com/event/chefs-table-notte-di-ravioli-2/
LOCATION:El Cielito Private Residence\, Santa Barbara\, CA\, 93105\, United States
CATEGORIES:Chef's Table,Dinner,Epicurean Santa Barbara
ATTACH;FMTTYPE=image/jpeg:https://epicureansb.com/wp-content/uploads/2018/03/LA101331PastaClose_horiz.jpg
ORGANIZER;CN="ESB":MAILTO:support@epicureansb.com
GEO:34.4208305;-119.6981901
END:VEVENT
BEGIN:VEVENT
DTSTART;TZID=America/Los_Angeles:20180510T180000
DTEND;TZID=America/Los_Angeles:20180510T210000
DTSTAMP:20260422T192434
CREATED:20180316T043215Z
LAST-MODIFIED:20180619T193001Z
UID:10000098-1525975200-1525986000@epicureansb.com
SUMMARY:Chef's Table: Notte di Ravioli!
DESCRIPTION:Come and dine with Chef and Pasta Maestro Michael Glazer and ESB members for a fun and artisanal dinner featuring Chef’s creative and delicious hand crafted ravioli and an amazing supporting cast of proteins and veggie courses. This nine-course meal will feature multiple courses of raviolis with unique fillings and sauces\, accompanied by farm fresh seasonal dishes. Chef Michael specializes in pasta making and showcases his passion through pop-up dinners where his masterful ability to craft the finest pastas is a super treat for his dinner guests. Get to know Chef Michael and see him in action as he prepares a beautiful dinner for Epicurean Santa Barbara. \nThis dinner is BYOB!\nPhotos by Paul Wellman \nCome For Food. Hang with Chef!\n \n\n\nMENU\n\n\nCUCUMBER GAZPACHO almond/aleppo/salsa verdeRAVIOLO caramelized fennel/fig/lambchopper/hazelnut brown butterSALMON CRUDO* preserved lemon/smoked salt/chiveRAVIOLI* brisket/crispy onion/mustard greens/walnut gremolataSPRING VEGETABLES green garlic butter/meyer lemon/nettle pureeRAVIOLI windrose farm fairy squash/shallot-herb creamSLOW ROASTED PORK BELLY* sweet potato puree/braising greens/natural jusCITRUS SORBET\nRAVIOLO handlebar ethiopian coffee/bellwhether farms ricotta/twenty-four blackbirds chocolate\n*Vegetarian Substitutions Available\n\nThe “Chef’s Table” events are intimate dinners held at either private homes or in restaurants and feature an acclaimed chef.  The chef has the opportunity to express his/her personal style of cooking\, all to the benefit of our members!  He/she will feature favorite dishes\, ingredients\, and techniques\, and will greet guests throughout the evening\, providing stories\, descriptions\, and conversation!  Seats for these dinners are very limited in order to maintain an intimate\, immersive social experience.\n\nChef’s Table Series: Wine\, Dine and Let the Chef Shine!
URL:https://epicureansb.com/event/chefs-table-notte-di-ravioli/
LOCATION:El Cielito Private Residence\, Santa Barbara\, CA\, 93105\, United States
CATEGORIES:Chef's Table,Dinner,Epicurean Santa Barbara
ATTACH;FMTTYPE=image/jpeg:https://epicureansb.com/wp-content/uploads/2018/03/LA101331PastaClose_horiz.jpg
ORGANIZER;CN="ESB":MAILTO:support@epicureansb.com
GEO:34.4208305;-119.6981901
END:VEVENT
END:VCALENDAR