BEGIN:VCALENDAR
VERSION:2.0
PRODID:-//Epicurean Santa Barbara - ECPv6.15.13//NONSGML v1.0//EN
CALSCALE:GREGORIAN
METHOD:PUBLISH
X-ORIGINAL-URL:https://epicureansb.com
X-WR-CALDESC:Events for Epicurean Santa Barbara
REFRESH-INTERVAL;VALUE=DURATION:PT1H
X-Robots-Tag:noindex
X-PUBLISHED-TTL:PT1H
BEGIN:VTIMEZONE
TZID:America/Los_Angeles
BEGIN:DAYLIGHT
TZOFFSETFROM:-0800
TZOFFSETTO:-0700
TZNAME:PDT
DTSTART:20200308T100000
END:DAYLIGHT
BEGIN:STANDARD
TZOFFSETFROM:-0700
TZOFFSETTO:-0800
TZNAME:PST
DTSTART:20201101T090000
END:STANDARD
BEGIN:DAYLIGHT
TZOFFSETFROM:-0800
TZOFFSETTO:-0700
TZNAME:PDT
DTSTART:20210314T100000
END:DAYLIGHT
BEGIN:STANDARD
TZOFFSETFROM:-0700
TZOFFSETTO:-0800
TZNAME:PST
DTSTART:20211107T090000
END:STANDARD
BEGIN:DAYLIGHT
TZOFFSETFROM:-0800
TZOFFSETTO:-0700
TZNAME:PDT
DTSTART:20220313T100000
END:DAYLIGHT
BEGIN:STANDARD
TZOFFSETFROM:-0700
TZOFFSETTO:-0800
TZNAME:PST
DTSTART:20221106T090000
END:STANDARD
END:VTIMEZONE
BEGIN:VEVENT
DTSTART;TZID=America/Los_Angeles:20210807T160000
DTEND;TZID=America/Los_Angeles:20210807T180000
DTSTAMP:20260424T002340
CREATED:20210319T184003Z
LAST-MODIFIED:20210728T192713Z
UID:10000070-1628352000-1628359200@epicureansb.com
SUMMARY:Cocktails & Canapés
DESCRIPTION:Cocktails & Canapés \nA proper drink!\nWhether you enjoy the classic Old Fashioned\, French 75\, or Negroni\, allow us to take your appreciation of cocktails to the next level. With the introduction of more obscure bitters and liquors\, allow ESB to introduce you to the latest trends in mixology\, while learning a bit about the Cocktail renaissance through a food and beverage pairing. From NYC to San Francisco\, at the forefront of this experience is “a proper drink”\, a cocktail made with fresh ingredients and is both classic and modern; the same drinks that have inspired and been perfected by the likes of Death & Co\, Milk & Honey\, Pravda\, Gramercy Tavern\, Beauty & Essex\, The Dead Rabbit\, The Starlight Room\, and on and on…This experience will be led by our in-house cocktail enthusiast\, Keith Robinson. \nGuests will imbibe through a carefully crafted course of librations alongside elegant bites inspired by the cocktails\, designed to pair with the complex flavors. They’ll be as easy on the eyes as they are on the tastebuds. \nThis is an outdoor event to provide a safe curated experience. Guests will have ample room for physical distancing when needed. We ask that all guests respect the personal space of others and maintain an appropriate distance!\n \n 
URL:https://epicureansb.com/event/cocktails-canapes/
LOCATION:Private Location\, Santa Barbara\, CA\, United States
CATEGORIES:Appetizers,Cocktails,Education,Epicurean Santa Barbara,Spirits
ATTACH;FMTTYPE=image/jpeg:https://epicureansb.com/wp-content/uploads/2021/03/IMG_0922-1080x719-1.jpg
ORGANIZER;CN="ESB":MAILTO:support@epicureansb.com
GEO:34.4208305;-119.6981901
END:VEVENT
END:VCALENDAR