BEGIN:VCALENDAR
VERSION:2.0
PRODID:-//Epicurean Santa Barbara - ECPv6.15.13//NONSGML v1.0//EN
CALSCALE:GREGORIAN
METHOD:PUBLISH
X-WR-CALNAME:Epicurean Santa Barbara
X-ORIGINAL-URL:https://epicureansb.com
X-WR-CALDESC:Events for Epicurean Santa Barbara
REFRESH-INTERVAL;VALUE=DURATION:PT1H
X-Robots-Tag:noindex
X-PUBLISHED-TTL:PT1H
BEGIN:VTIMEZONE
TZID:America/Los_Angeles
BEGIN:DAYLIGHT
TZOFFSETFROM:-0800
TZOFFSETTO:-0700
TZNAME:PDT
DTSTART:20180311T100000
END:DAYLIGHT
BEGIN:STANDARD
TZOFFSETFROM:-0700
TZOFFSETTO:-0800
TZNAME:PST
DTSTART:20181104T090000
END:STANDARD
BEGIN:DAYLIGHT
TZOFFSETFROM:-0800
TZOFFSETTO:-0700
TZNAME:PDT
DTSTART:20190310T100000
END:DAYLIGHT
BEGIN:STANDARD
TZOFFSETFROM:-0700
TZOFFSETTO:-0800
TZNAME:PST
DTSTART:20191103T090000
END:STANDARD
BEGIN:DAYLIGHT
TZOFFSETFROM:-0800
TZOFFSETTO:-0700
TZNAME:PDT
DTSTART:20200308T100000
END:DAYLIGHT
BEGIN:STANDARD
TZOFFSETFROM:-0700
TZOFFSETTO:-0800
TZNAME:PST
DTSTART:20201101T090000
END:STANDARD
END:VTIMEZONE
BEGIN:VEVENT
DTSTART;TZID=America/Los_Angeles:20191117T163000
DTEND;TZID=America/Los_Angeles:20191117T193000
DTSTAMP:20260425T061234
CREATED:20190715T224823Z
LAST-MODIFIED:20191117T194657Z
UID:10000174-1574008200-1574019000@epicureansb.com
SUMMARY:ESB 2nd Anniversary Festival Gathering & Prize Drawing
DESCRIPTION:Celebrate 2 Years of Events\, Experiences and Exploration! \nESB’s 2nd Anniversary Festival Gathering with guest of honor:\nChef Massimo Falsini \nExecutive Chef of Caruso’s at Rosewood Miramar Resort \n \nThe Festival Gathering is a celebration of some of the best culinary and beverage artists in our community. Limited to only 90 attendees\, the event will allow members to interact personally with these artisans\, while enjoying delicious food\, beverages\, and more…The chefs will entertain and inspire. The food will impress. The winemakers will share their favorite bottles. The cocktails will be visually stunning and expertly crafted. And the company? That’s up to you! We’ll provide an awesome atmosphere designed for our members; individuals who share a passion for food\, wine\, and spirits yet desire something more than the status quo; rather to be challenged and enlightened\, and to surround themselves with others that share those desires. Space is limited so join us. This is all for you! \n…A prize drawing that puts the “Epic” in Epicurean!\nIn celebration of our 2nd Year Anniversary\, ESB is offering the ultimate prize drawing! Open to everyone: members and non-members\, this drawing offers 3 incredible prizes for food and beverage enthusiasts. Prize drawing tickets can only be purchased online! \n $100/Ticket 3 Chances to win! Only 200 tickets are available! \nThe 3 winners will be drawn at random at the 2nd Anniversary event on November 17th\, and will also be announced in our newsletter! Winners do not have to be present to win. You will be notified if you are a lucky winner! \n \nGRAND PRIZE\n \nEPICUREAN GOLDEN PASS: All Access Membership (value $5000)\nOne Membership. All Events.\nCLICK HERE TO SEE 2019 EVENTS\, and 2020 PROSPECTIVE EVENTS. \nWinner is entitled to one registration for every event held in 2020! *See exclusions at bottom of webpage.\n2ND PRIZE\nESB CELLAR COLLECTION (value $1000)\nA collection of 15 bottles of premium wine from ESB Inventory. Selections include wines from Paso Robles\, Santa Barbara\, Napa\, and Sonoma.\n3RD PRIZE\nTHE ESB NAPA EXPERIENCE (value $800)\nGift package with 4 bottles of wine from Outpost Wines & Domaine Chandon\nPicnic Lunch with sparkling wines for up to 4 guests at Domaine Chandon\nTasting and Tour for up to 4 guests at Outpost Wines\n$100 Gift Certificate to Thomas Keller’s Bouchon Bistro\n*Exclusions: Prize is non-transferable. Singles Membership (value of $195) is included. Prize is applicable to all club events including Winemaker Evenings\, Chef’s Table Dinners\, Tastings\, Classes\, Cocktail events\, and Wine Down Wednesdays\, and the 2020 Annual Festival Gathering. Travel and excursions\, take-home bottle options at Winemaker Evenings\, and online purchases of goods do not apply. \nThe 2nd anniversary experience…\nUpon arrival guests will be welcomed with a glass a sparkling wine and a spread of Santa Barbara’s Bounty\, and engage in a afternoon filled with playful culinary demonstrations followed by unique dishes\, warmhearted winemakers\, Craft cocktails and spirits\, and of course great company comprised our fellow members\, guests\, and artisans: \nPART I- Chef Demonstrations\nEngage with chefs as they demonstrate stunning culinary techniques and unique ingredients aimed to enlighten our guests. There will be 5 of these “Chef Showcases” throughout the evening\, including one by Michelin-starred chef Massimo Falsini. \n \nPART II – Featured Artisans\nDine on a bounty of foods created by our featured chefs and local artisans. \n \nPART III\nEnjoy glasses\, (no\, not tastings) of highly-rated wines from Napa (Domaine Chandon)\, Santa Barbara (Samsara) and Paso Robles (Jacob Toft)\, and meet winemakers Jacob Toft & Matt Brady! \nPART IV\nTry an expertly-mixed cocktail created by specialists Jessica Garver and Sean Riley. Seeking a spirit that is a little more….mature? Well\, for that you’ll have to ask the right question.   \nESB is partnering with Out of The Box Theatre Company on this event\, and 3% of proceeds will go towards their productions of contemporary musicals.
URL:https://epicureansb.com/event/esb-annual-anniversary-gala/
LOCATION:Chase Palm Park\, 236 E Cabrillo Blvd\, Santa Barbara\, CA\, 93101\, United States
CATEGORIES:Appetizers,Celebration,Cocktails,Education,Epicurean Santa Barbara,Music,Spirits,Sweets,Wine
ATTACH;FMTTYPE=image/jpeg:https://epicureansb.com/wp-content/uploads/2019/07/FINAL_WIDE2.jpeg
GEO:34.4144516;-119.6851791
X-APPLE-STRUCTURED-LOCATION;VALUE=URI;X-ADDRESS=Chase Palm Park 236 E Cabrillo Blvd Santa Barbara CA 93101 United States;X-APPLE-RADIUS=500;X-TITLE=236 E Cabrillo Blvd:geo:-119.6851791,34.4144516
END:VEVENT
END:VCALENDAR