BEGIN:VCALENDAR
VERSION:2.0
PRODID:-//Epicurean Santa Barbara - ECPv6.15.13//NONSGML v1.0//EN
CALSCALE:GREGORIAN
METHOD:PUBLISH
X-ORIGINAL-URL:https://epicureansb.com
X-WR-CALDESC:Events for Epicurean Santa Barbara
REFRESH-INTERVAL;VALUE=DURATION:PT1H
X-Robots-Tag:noindex
X-PUBLISHED-TTL:PT1H
BEGIN:VTIMEZONE
TZID:America/Los_Angeles
BEGIN:DAYLIGHT
TZOFFSETFROM:-0800
TZOFFSETTO:-0700
TZNAME:PDT
DTSTART:20180311T100000
END:DAYLIGHT
BEGIN:STANDARD
TZOFFSETFROM:-0700
TZOFFSETTO:-0800
TZNAME:PST
DTSTART:20181104T090000
END:STANDARD
BEGIN:DAYLIGHT
TZOFFSETFROM:-0800
TZOFFSETTO:-0700
TZNAME:PDT
DTSTART:20190310T100000
END:DAYLIGHT
BEGIN:STANDARD
TZOFFSETFROM:-0700
TZOFFSETTO:-0800
TZNAME:PST
DTSTART:20191103T090000
END:STANDARD
BEGIN:DAYLIGHT
TZOFFSETFROM:-0800
TZOFFSETTO:-0700
TZNAME:PDT
DTSTART:20200308T100000
END:DAYLIGHT
BEGIN:STANDARD
TZOFFSETFROM:-0700
TZOFFSETTO:-0800
TZNAME:PST
DTSTART:20201101T090000
END:STANDARD
END:VTIMEZONE
BEGIN:VEVENT
DTSTART;TZID=America/Los_Angeles:20190814T170000
DTEND;TZID=America/Los_Angeles:20190814T184500
DTSTAMP:20260425T102535
CREATED:20190802T132836Z
LAST-MODIFIED:20190823T161510Z
UID:10000178-1565802000-1565808300@epicureansb.com
SUMMARY:Wine Down Wednesday @ The Manor Bar
DESCRIPTION:Relax and “Wine Down”\nRelax and “Wine Down” with ESB members and guests on Wednesday\, August 14th from 5-6:45pm at the Manor Bar in Rosewood Miramar Resort. Event cost includes appetizers. Don’t forget to stay for the prize drawing! Valet and Street parking available. \nThe Manor Bar provides wine\, handcrafted cocktails\, spirits\, and delectable hors d’oeuvres. This candlelit\, wood-paneled haven is the ideal place to gather for libations and conversation. \nA selection of house Rosé\, White and Red wine will be available for $14. \nMenu will include:\nDungeness Crab Roll\nCrema Fresca Lime Salsa\, Pickled Radish\nInvictus Grilled Cheese\nGruyére\, Havarti\, Monterey Jack\, Sourdough\nFresno and Roasted Pepper Hummus\nJalapeño Olive\, Crudite\, Harissa Lavosh\nCharcuterie Platter\nMustard\, Pickles\, Sourdough\nChips and Salsa\nTres Chiles\, Guacamole\nCandied Nuts\, Olives\nMeyer Lemon Cupcakes
URL:https://epicureansb.com/event/wine-down-wednesday-the-manor-bar/
LOCATION:The  Manor Bar at Rosewood Miramar Resort\, 1759 S Jameson Ln\, Montecito\, CA\, 93108\, United States
CATEGORIES:Appetizers,Cocktails,Epicurean Santa Barbara,Spirits,Wine
ATTACH;FMTTYPE=image/jpeg:https://epicureansb.com/wp-content/uploads/2019/03/wd-SB-logo-4_Artboard-4.jpg
ORGANIZER;CN="ESB":MAILTO:support@epicureansb.com
GEO:34.4209163;-119.6286405
X-APPLE-STRUCTURED-LOCATION;VALUE=URI;X-ADDRESS=The  Manor Bar at Rosewood Miramar Resort 1759 S Jameson Ln Montecito CA 93108 United States;X-APPLE-RADIUS=500;X-TITLE=1759 S Jameson Ln:geo:-119.6286405,34.4209163
END:VEVENT
END:VCALENDAR