BEGIN:VCALENDAR
VERSION:2.0
PRODID:-//Epicurean Santa Barbara - ECPv6.15.13//NONSGML v1.0//EN
CALSCALE:GREGORIAN
METHOD:PUBLISH
X-ORIGINAL-URL:https://epicureansb.com
X-WR-CALDESC:Events for Epicurean Santa Barbara
REFRESH-INTERVAL;VALUE=DURATION:PT1H
X-Robots-Tag:noindex
X-PUBLISHED-TTL:PT1H
BEGIN:VTIMEZONE
TZID:America/Los_Angeles
BEGIN:DAYLIGHT
TZOFFSETFROM:-0800
TZOFFSETTO:-0700
TZNAME:PDT
DTSTART:20250309T100000
END:DAYLIGHT
BEGIN:STANDARD
TZOFFSETFROM:-0700
TZOFFSETTO:-0800
TZNAME:PST
DTSTART:20251102T090000
END:STANDARD
BEGIN:DAYLIGHT
TZOFFSETFROM:-0800
TZOFFSETTO:-0700
TZNAME:PDT
DTSTART:20260308T100000
END:DAYLIGHT
BEGIN:STANDARD
TZOFFSETFROM:-0700
TZOFFSETTO:-0800
TZNAME:PST
DTSTART:20261101T090000
END:STANDARD
BEGIN:DAYLIGHT
TZOFFSETFROM:-0800
TZOFFSETTO:-0700
TZNAME:PDT
DTSTART:20270314T100000
END:DAYLIGHT
BEGIN:STANDARD
TZOFFSETFROM:-0700
TZOFFSETTO:-0800
TZNAME:PST
DTSTART:20271107T090000
END:STANDARD
END:VTIMEZONE
BEGIN:VEVENT
DTSTART;TZID=America/Los_Angeles:20260317T180000
DTEND;TZID=America/Los_Angeles:20260317T210000
DTSTAMP:20260422T155431
CREATED:20260213T205455Z
LAST-MODIFIED:20260313T163407Z
UID:10000294-1773770400-1773781200@epicureansb.com
SUMMARY:Opera in the Kitchen with Lucrezia Cannito
DESCRIPTION:Italian Demonstration\, Dinner & Opera\nwith Chef Lucrezia Cannito from Florence\, Italy!\nAwaken your senses! \nOnce again\,  Lucrezia Cannito\, founder of “Opera in The Kitchen” is  is traveling all the way from Florence\, Italy to share her passion for authentic Italian cooking and music with members of Epicurean Santa Barbara! \nLucrezia\, the dynamic force behind Opera in the Kitchen\, brings her family’s rich culinary traditions to life through her cooking classes. With a unique background as an accomplished saxophonist\, sommelier\, and swing dancer\, her infectious energy\, artistry\, and deep knowledge of Italian cuisine shine through in every dish. \nDuring this demonstration with Lucrezia\, you’ll learn time-honored Italian recipes and techniques (passed on to her my her Momma and Nonna\, of course). She’ll share heartwarming stories from her childhood spent in her family farmhouse in Tuscany\, connecting the flavors of the food to the rich history of the Old World. Following the demonstration will be a multi-course dinner. \nLucrezia’s cooking school\, Opera in the Kitchen\, has been featured in both Vanity Fair and the New York Times\, and has recently been awarded the title of “Most Unforgettable Experience” on Airbnb. She offers guests a true immersion in the soul of Italian cuisine. \nDon’t miss the chance to learn from this one of a kind Chef while enjoying an evening of delicious food\, education\, lively conversation\, last but certainly not least\, and surprise Live Opera Performance! Reserve your spot now for a taste of Italy you’ll never forget! This event is BYOB!  \nGuests are encouraged to bring their favorite or finest apron to the event! \n   
URL:https://epicureansb.com/event/opera-in-the-kitchen-with-lucrezia-cannito/
LOCATION:TBD\, Santa Barbara\, CA\, United States
CATEGORIES:Cooking,Dinner,Education,Epicurean Santa Barbara,Music
ATTACH;FMTTYPE=image/jpeg:https://epicureansb.com/wp-content/uploads/2025/01/maxresdefault.jpg
ORGANIZER;CN="ESB":MAILTO:support@epicureansb.com
GEO:34.4208305;-119.6981901
END:VEVENT
END:VCALENDAR