BEGIN:VCALENDAR
VERSION:2.0
PRODID:-//Epicurean Santa Barbara - ECPv6.15.13//NONSGML v1.0//EN
CALSCALE:GREGORIAN
METHOD:PUBLISH
X-WR-CALNAME:Epicurean Santa Barbara
X-ORIGINAL-URL:https://epicureansb.com
X-WR-CALDESC:Events for Epicurean Santa Barbara
REFRESH-INTERVAL;VALUE=DURATION:PT1H
X-Robots-Tag:noindex
X-PUBLISHED-TTL:PT1H
BEGIN:VTIMEZONE
TZID:America/Los_Angeles
BEGIN:DAYLIGHT
TZOFFSETFROM:-0800
TZOFFSETTO:-0700
TZNAME:PDT
DTSTART:20230312T100000
END:DAYLIGHT
BEGIN:STANDARD
TZOFFSETFROM:-0700
TZOFFSETTO:-0800
TZNAME:PST
DTSTART:20231105T090000
END:STANDARD
BEGIN:DAYLIGHT
TZOFFSETFROM:-0800
TZOFFSETTO:-0700
TZNAME:PDT
DTSTART:20240310T100000
END:DAYLIGHT
BEGIN:STANDARD
TZOFFSETFROM:-0700
TZOFFSETTO:-0800
TZNAME:PST
DTSTART:20241103T090000
END:STANDARD
BEGIN:DAYLIGHT
TZOFFSETFROM:-0800
TZOFFSETTO:-0700
TZNAME:PDT
DTSTART:20250309T100000
END:DAYLIGHT
BEGIN:STANDARD
TZOFFSETFROM:-0700
TZOFFSETTO:-0800
TZNAME:PST
DTSTART:20251102T090000
END:STANDARD
END:VTIMEZONE
BEGIN:VEVENT
DTSTART;TZID=America/Los_Angeles:20240510T180000
DTEND;TZID=America/Los_Angeles:20240510T203000
DTSTAMP:20260423T165306
CREATED:20240301T200145Z
LAST-MODIFIED:20240503T202006Z
UID:10000256-1715364000-1715373000@epicureansb.com
SUMMARY:ESB Dinner Party ~ May 2024
DESCRIPTION:“ESB Dinner Party”\nFounders Amy Baer and Keith Robinson are launching a new series of dinners\, we fondly call “ESB Dinner Party”. \nChef Amy will prepare some of her favorite dishes\, a mix of shared and individually plated courses that change for each dinner party event. As always with Amy’s cuisine\, we’ll start the evening with fresh baked bread and salted French butter for the table! Along with seasonal produce\, you’ll likely enjoy one of her recent favorite seafood creations\, some handmade pasta\, and red meat fitting for a special bottle. \nGoing back to our core of offering private events with curated cuisine and gracious hospitality- these dinners\, limited to 12 guests\, will be held inside the Kitchen at Chef Amy’s residence and highlight inspiring ingredients and exciting dishes. A welcome beverage will be included\, and dinners are BYOB! \nIn these communal small group “member-only” dinners\, guests will experience\, first hand meal preparations\, cooking techniques\, share culinary experiences get to know other members while enjoying a private curated chef’s table experience similar to David Chang’s Netflix series “Dinner Time Live”. \nMenu Coming Soon!\n 
URL:https://epicureansb.com/event/esb-dinner-party/
LOCATION:Private Residence\, Santa Barbara\, CA\, 93110\, United States
CATEGORIES:Chef's Table,Dinner,Education,Epicurean Santa Barbara
ATTACH;FMTTYPE=image/jpeg:https://epicureansb.com/wp-content/uploads/2024/03/ESBDP1.jpg
ORGANIZER;CN="ESB":MAILTO:support@epicureansb.com
GEO:34.4208305;-119.6981901
END:VEVENT
BEGIN:VEVENT
DTSTART;TZID=America/Los_Angeles:20240518T110000
DTEND;TZID=America/Los_Angeles:20240518T130000
DTSTAMP:20260423T165306
CREATED:20240301T191215Z
LAST-MODIFIED:20240514T154157Z
UID:10000255-1716030000-1716037200@epicureansb.com
SUMMARY:Roll with Me\, Sushi!
DESCRIPTION:Roll with Me\, Sushi! \nWith Chefs PA Tremblay and Amy Baer\nChef Amy Baer and Chef PA Tremblay share a love of food education\, Japanese Cuisine\, 90’s Rock\, Stinky French Cheese\, and so much more; so it only seems fitting that they join forces and fervor to offer ESB  Members a fun filled day of Sushi Rolls! \nAt this hands on class\, Guests will learn the ease of maki sushi rolling; including seafood preparation\, and basic cuts for a variety of vegetables. Once all the seafood and vegetables are ready to go\, the Sushi party begins! With mats\, sushi rollers\, and variety of seafood\, sauces\, vegetables\, and perfectly cooked sushi rice\, (chef’s kiss!) guests will form their own sushi rolls to be enjoyed at the end of the class. \nLove sushi\, but don’t love raw seafood\, or are vegetarian? We’ve got you covered! Between all the vegetable options\, and the cooked seafood options\, we’ll accommodate all dietary preferences! \nIn addition\, Chef PA will also demonstrate his easy Tempura recipe\, so guests will also have the opportunity to create the ever delicious and desirable Tempura sushi rolls! \nThere will be Rosé\, Sake\, Yuzu Spritzes\, Green Tea\, and more!
URL:https://epicureansb.com/event/roll-with-me-sushi/
LOCATION:SBMS Kitchen\, 1321 Alameda Padre Serra\, Santa Barbara\, CA\, 93103\, United States
CATEGORIES:Cooking,Education,Epicurean Santa Barbara,Lunch
ATTACH;FMTTYPE=image/jpeg:https://epicureansb.com/wp-content/uploads/2024/03/IMG_3268.jpeg
ORGANIZER;CN="ESB":MAILTO:support@epicureansb.com
GEO:34.4208305;-119.6981901
X-APPLE-STRUCTURED-LOCATION;VALUE=URI;X-ADDRESS=SBMS Kitchen 1321 Alameda Padre Serra Santa Barbara CA 93103 United States;X-APPLE-RADIUS=500;X-TITLE=1321 Alameda Padre Serra:geo:-119.6981901,34.4208305
END:VEVENT
END:VCALENDAR