BEGIN:VCALENDAR
VERSION:2.0
PRODID:-//Epicurean Santa Barbara - ECPv6.15.13//NONSGML v1.0//EN
CALSCALE:GREGORIAN
METHOD:PUBLISH
X-WR-CALNAME:Epicurean Santa Barbara
X-ORIGINAL-URL:https://epicureansb.com
X-WR-CALDESC:Events for Epicurean Santa Barbara
REFRESH-INTERVAL;VALUE=DURATION:PT1H
X-Robots-Tag:noindex
X-PUBLISHED-TTL:PT1H
BEGIN:VTIMEZONE
TZID:America/Los_Angeles
BEGIN:DAYLIGHT
TZOFFSETFROM:-0800
TZOFFSETTO:-0700
TZNAME:PDT
DTSTART:20220313T100000
END:DAYLIGHT
BEGIN:STANDARD
TZOFFSETFROM:-0700
TZOFFSETTO:-0800
TZNAME:PST
DTSTART:20221106T090000
END:STANDARD
BEGIN:DAYLIGHT
TZOFFSETFROM:-0800
TZOFFSETTO:-0700
TZNAME:PDT
DTSTART:20230312T100000
END:DAYLIGHT
BEGIN:STANDARD
TZOFFSETFROM:-0700
TZOFFSETTO:-0800
TZNAME:PST
DTSTART:20231105T090000
END:STANDARD
BEGIN:DAYLIGHT
TZOFFSETFROM:-0800
TZOFFSETTO:-0700
TZNAME:PDT
DTSTART:20240310T100000
END:DAYLIGHT
BEGIN:STANDARD
TZOFFSETFROM:-0700
TZOFFSETTO:-0800
TZNAME:PST
DTSTART:20241103T090000
END:STANDARD
END:VTIMEZONE
BEGIN:VEVENT
DTSTART;TZID=America/Los_Angeles:20230713T173000
DTEND;TZID=America/Los_Angeles:20230713T200000
DTSTAMP:20260424T064945
CREATED:20230609T135809Z
LAST-MODIFIED:20230712T161348Z
UID:10000238-1689269400-1689278400@epicureansb.com
SUMMARY:Wood-Fired Oven Dinner
DESCRIPTION:Wood-Fired Oven Dinner\nExperience a wood-fired oven dinner- up close and personal! EpicureanSB’s Chef Amy Baer and FireBrick’s Arturo Ruiz are joining forces to offer guests a unique dinner with with a focus on wood-fired cooking! At this in an outdoor ‘culinary theatre’ set-up\, the ovens are front and center. You’ll observe everything from whole vegetables\, to seafood\, proteins\, and even desserts cooked with live fire. Not only does the kiss of wood smoke enhance the dishes\, but you’ll leave with a new found appreciation for the versatility of wood-burning ovens. This up close and personal experience is sure to be fun\, delicious and enlightening! \nAmy and Arturo first met while working at Industrial Eats\, and share a love of entertaining guests with delicious and immersive food experiences. Together they are crafting a 5-course menu inspired by their own unique culinary styles\, and wood-burning oven techniques learned from their time at the beloved Industrial Eats. \nPlates will be shared-2 per person. (Single registrations will be plated individually). \nMenu\nWood-Fired Pita with Spreads\nWhite Bean Hummus\, Romesco\, Labneh \nFireBrick’s Grilled Oysters \nWhole Grilled Maitake Mushroom\nDashi Aioli and Herb Vinaigrette \nWood-fired Chicken 2 Ways\nSage Pomme Puree\, Roasted Carrots\, Pan Sauce \nWood-Fired Strawberries\nGrilled Pound Cake\nThai Basil Custard
URL:https://epicureansb.com/event/wood-fired-oven-dinner/
LOCATION:Private Residence\, Santa Barbara\, CA\, 93110\, United States
CATEGORIES:Dinner,Education,Epicurean Santa Barbara
ATTACH;FMTTYPE=image/jpeg:https://epicureansb.com/wp-content/uploads/2023/06/Wood-Fired.jpg
ORGANIZER;CN="ESB":MAILTO:support@epicureansb.com
GEO:34.4208305;-119.6981901
END:VEVENT
END:VCALENDAR