BEGIN:VCALENDAR
VERSION:2.0
PRODID:-//Epicurean Santa Barbara - ECPv6.15.13//NONSGML v1.0//EN
CALSCALE:GREGORIAN
METHOD:PUBLISH
X-WR-CALNAME:Epicurean Santa Barbara
X-ORIGINAL-URL:https://epicureansb.com
X-WR-CALDESC:Events for Epicurean Santa Barbara
REFRESH-INTERVAL;VALUE=DURATION:PT1H
X-Robots-Tag:noindex
X-PUBLISHED-TTL:PT1H
BEGIN:VTIMEZONE
TZID:America/Los_Angeles
BEGIN:DAYLIGHT
TZOFFSETFROM:-0800
TZOFFSETTO:-0700
TZNAME:PDT
DTSTART:20220313T100000
END:DAYLIGHT
BEGIN:STANDARD
TZOFFSETFROM:-0700
TZOFFSETTO:-0800
TZNAME:PST
DTSTART:20221106T090000
END:STANDARD
BEGIN:DAYLIGHT
TZOFFSETFROM:-0800
TZOFFSETTO:-0700
TZNAME:PDT
DTSTART:20230312T100000
END:DAYLIGHT
BEGIN:STANDARD
TZOFFSETFROM:-0700
TZOFFSETTO:-0800
TZNAME:PST
DTSTART:20231105T090000
END:STANDARD
BEGIN:DAYLIGHT
TZOFFSETFROM:-0800
TZOFFSETTO:-0700
TZNAME:PDT
DTSTART:20240310T100000
END:DAYLIGHT
BEGIN:STANDARD
TZOFFSETFROM:-0700
TZOFFSETTO:-0800
TZNAME:PST
DTSTART:20241103T090000
END:STANDARD
END:VTIMEZONE
BEGIN:VEVENT
DTSTART;TZID=America/Los_Angeles:20230629T180000
DTEND;TZID=America/Los_Angeles:20230629T200000
DTSTAMP:20260421T205142
CREATED:20230505T174225Z
LAST-MODIFIED:20230528T133154Z
UID:10000235-1688061600-1688068800@epicureansb.com
SUMMARY:Sous Vide Demonstration
DESCRIPTION:Sous Vide Demonstration\nIntrigued by Sous Vide cooking? \nWondering if you should invest in another kitchen tool? \nHere is your opportunity to quell your curiosity! In this demonstration style event and dinner\, Chef Amy will showcase the modern chef’s favorite gadget through preparations of vegetables\, seafood\, and red meat; demonstrating the process from beginning to end. A little advance prep can result in both delicious and fool-proof food preparations; taking guesswork out of cooking so many items. Come\, taste and learn! Beverages included! \nWhy Sous Vide? \nYou can ask the same question about any other cooking technique. Why sauté? Why roast? Why grill? …Because it provides precise results; in a specific amount of time and effort. \nSo take the mystery out of Sous Vide and taste the results! Rather than a complicated or mysterious machine that requires a degree in chemistry; it is straightforward and exact\, and may become your next favorite kitchen tool. \nMenu\nSous Vide Salmon 2 Ways:\nChilled Salmon Salad with Dill Aioli and Market Greens \nSeared Salmon Over Wild Rice \nSous Vide New York Strip\nMelted Leeks and Herb Vinaigrette \nSous Vide Carnitas Tacos \n  \nMore info coming..!
URL:https://epicureansb.com/event/sous-vide-demonstration/
LOCATION:TBD\, Santa Barbara\, CA\, United States
CATEGORIES:Cooking,Dinner,Education,Epicurean Santa Barbara
ATTACH;FMTTYPE=image/png:https://epicureansb.com/wp-content/uploads/2023/05/Screenshot-2023-05-05-at-6.59.52-AM.png
ORGANIZER;CN="ESB":MAILTO:support@epicureansb.com
GEO:34.4208305;-119.6981901
END:VEVENT
END:VCALENDAR