BEGIN:VCALENDAR
VERSION:2.0
PRODID:-//Epicurean Santa Barbara - ECPv6.15.13//NONSGML v1.0//EN
CALSCALE:GREGORIAN
METHOD:PUBLISH
X-ORIGINAL-URL:https://epicureansb.com
X-WR-CALDESC:Events for Epicurean Santa Barbara
REFRESH-INTERVAL;VALUE=DURATION:PT1H
X-Robots-Tag:noindex
X-PUBLISHED-TTL:PT1H
BEGIN:VTIMEZONE
TZID:America/Los_Angeles
BEGIN:DAYLIGHT
TZOFFSETFROM:-0800
TZOFFSETTO:-0700
TZNAME:PDT
DTSTART:20210314T100000
END:DAYLIGHT
BEGIN:STANDARD
TZOFFSETFROM:-0700
TZOFFSETTO:-0800
TZNAME:PST
DTSTART:20211107T090000
END:STANDARD
BEGIN:DAYLIGHT
TZOFFSETFROM:-0800
TZOFFSETTO:-0700
TZNAME:PDT
DTSTART:20220313T100000
END:DAYLIGHT
BEGIN:STANDARD
TZOFFSETFROM:-0700
TZOFFSETTO:-0800
TZNAME:PST
DTSTART:20221106T090000
END:STANDARD
BEGIN:DAYLIGHT
TZOFFSETFROM:-0800
TZOFFSETTO:-0700
TZNAME:PDT
DTSTART:20230312T100000
END:DAYLIGHT
BEGIN:STANDARD
TZOFFSETFROM:-0700
TZOFFSETTO:-0800
TZNAME:PST
DTSTART:20231105T090000
END:STANDARD
END:VTIMEZONE
BEGIN:VEVENT
DTSTART;TZID=America/Los_Angeles:20220308T180000
DTEND;TZID=America/Los_Angeles:20220308T200000
DTSTAMP:20260425T061526
CREATED:20211209T170928Z
LAST-MODIFIED:20220224T031508Z
UID:10000077-1646762400-1646769600@epicureansb.com
SUMMARY:Risotto Perfected with Chef Andrea Girardello
DESCRIPTION:Risotto Perfected with Chef Andrea Girardello\nFew dishes compare to a bowl of creamy\, tender\, perfectly cooked risotto!\nAt a casual evening with ESB Members and Chef Andrea Girardello from Aperitivo Wine Bar (and formerly Biltmore’s Tydes restaurant)\, learn how to make authentic Italian risotto! From the rice to the aromatics\, wine\, and diverse flavors\, guests can observe the process from start to finish\, and then savor risotto perfection following the demonstration. \n\nRaised in Milan\, Italy\, Andrea’s first exposure to wine occurred at an early age when his father’s uncle shared a batch of his own wine made in the hills of Liguria. His career in hospitality took him around the world providing him with over 20 years of hands-on education in wine\, working for a Michelin starred restaurant\, Relais & Chateaux\, and eventually at the Four Seasons Santa Barbara\, where Andrea and Brian met. Andrea’s professional background as well as his vibrant personality make him uniquely gifted to create an authentic Italian experience. These days he manages Aperitivo Wine Bar on Haley Street\, alongside another Biltmore alum\, Chef Brian Dodero. \nMenu to Come!
URL:https://epicureansb.com/event/risotto-perfected-with-chef-andrea-girardello/
LOCATION:TBD\, Santa Barbara\, CA\, United States
CATEGORIES:Dinner,Education,Epicurean Santa Barbara
ATTACH;FMTTYPE=image/jpeg:https://epicureansb.com/wp-content/uploads/2021/12/IMG_3057.jpg
ORGANIZER;CN="ESB":MAILTO:support@epicureansb.com
GEO:34.4208305;-119.6981901
END:VEVENT
END:VCALENDAR