BEGIN:VCALENDAR
VERSION:2.0
PRODID:-//Epicurean Santa Barbara - ECPv6.15.13//NONSGML v1.0//EN
CALSCALE:GREGORIAN
METHOD:PUBLISH
X-WR-CALNAME:Epicurean Santa Barbara
X-ORIGINAL-URL:https://epicureansb.com
X-WR-CALDESC:Events for Epicurean Santa Barbara
REFRESH-INTERVAL;VALUE=DURATION:PT1H
X-Robots-Tag:noindex
X-PUBLISHED-TTL:PT1H
BEGIN:VTIMEZONE
TZID:America/Los_Angeles
BEGIN:DAYLIGHT
TZOFFSETFROM:-0800
TZOFFSETTO:-0700
TZNAME:PDT
DTSTART:20200308T100000
END:DAYLIGHT
BEGIN:STANDARD
TZOFFSETFROM:-0700
TZOFFSETTO:-0800
TZNAME:PST
DTSTART:20201101T090000
END:STANDARD
BEGIN:DAYLIGHT
TZOFFSETFROM:-0800
TZOFFSETTO:-0700
TZNAME:PDT
DTSTART:20210314T100000
END:DAYLIGHT
BEGIN:STANDARD
TZOFFSETFROM:-0700
TZOFFSETTO:-0800
TZNAME:PST
DTSTART:20211107T090000
END:STANDARD
BEGIN:DAYLIGHT
TZOFFSETFROM:-0800
TZOFFSETTO:-0700
TZNAME:PDT
DTSTART:20220313T100000
END:DAYLIGHT
BEGIN:STANDARD
TZOFFSETFROM:-0700
TZOFFSETTO:-0800
TZNAME:PST
DTSTART:20221106T090000
END:STANDARD
END:VTIMEZONE
BEGIN:VEVENT
DTSTART;TZID=America/Los_Angeles:20210908T173000
DTEND;TZID=America/Los_Angeles:20210908T193000
DTSTAMP:20260425T143904
CREATED:20210611T145318Z
LAST-MODIFIED:20210826T232508Z
UID:10000205-1631122200-1631129400@epicureansb.com
SUMMARY:Get Hooked Seafood Demo & Dinner - Fall 2021
DESCRIPTION:Get hooked on Seafood!\nESB is resuming it’s collaborations with Get Hooked to host a culinary demonstration on how to prepare seafood sourced through Get Hooked\, a Community Supported Fishery Service that delivers locals the highest quality sustainable seafood\, sourced directly from local fishermen. \nESB Founder\, Chef Amy Baer Robinson will host this culinary demonstration\, which will feature Squid\, King Salmon\, and Sea bass! The demonstration will be a fun\, homespun approach to cooking; utilizing ingredients available in a home kitchen\, techniques that are adaptable to other species of fish\, and tricks and recipes adapted from notable chefs and restaurants! Beverages will also be served. \nIn addition to the class\, guests have the option to pre-purchase two out of three of the featured frozen seafood selections to take home after the event\, so they too can prepare the dishes when they please! This is a great opportunity to sample Get Hooked’s Seafood program for those who are not yet members. \nAs a collaboration between Get Hooked and Epicurean Santa Barbara\, members of both entities are welcome to register for this event! \nPLEASE NOTE: This event is being held in a private home. The host kindly requires that all attendees be vaccinated.\n\nA representative from Get Hooked will also be present to educate members on Community Supported Fisheries and sustainability\, and the diversity of the Santa Barbara Channel! Guests will see how Get Hooked’s seafood arrives\, and experience first-hand the quality of the catch\, all while learning tricks and tips to cook seafood to perfection with easy\, no-recipe needed techniques. Beverages will also be provided at this event. \nLocal\, sustainably-caught seafood is not easy to find in stores in Santa Barbara. Most of Santa Barbara’s seafood leaves town\, and the community is largely unaware of how desirable our local seafood is and how much better it is for the environment compared with buying imported seafood. While seafood counters at Santa Barbara stores are stocked with foreign products that may or may not be harvested sustainably or labeled truthfully\, CSF’s such as Get Hooked know exactly who caught your seafood\, where it was caught\, and how and when it was caught. They provide information on the species of seafood\, health benefits\, and even a short bio of the fisherman. Their passion is bringing the Santa Barbara Channel into your home! To learn more about Get Hooked\, visit their website at: gethookedseafood.com
URL:https://epicureansb.com/event/get-hooked-seafood-demo-dinner-fall-2021/
LOCATION:Private Residence\, Santa Barbara\, CA\, 93110\, United States
CATEGORIES:Dinner,Education,Epicurean Santa Barbara
ATTACH;FMTTYPE=image/png:https://epicureansb.com/wp-content/uploads/2019/02/186728.3ab38a4dbf2ae1e9a3ee692b1d09b95e.png
ORGANIZER;CN="ESB":MAILTO:support@epicureansb.com
GEO:34.4208305;-119.6981901
END:VEVENT
BEGIN:VEVENT
DTSTART;TZID=America/Los_Angeles:20210922T173000
DTEND;TZID=America/Los_Angeles:20210922T213000
DTSTAMP:20260425T143904
CREATED:20210726T151910Z
LAST-MODIFIED:20210903T155202Z
UID:10000212-1632331800-1632346200@epicureansb.com
SUMMARY:Progressive Wine Experience & Dinner ~ Samsara Wine Co.
DESCRIPTION:Progressive Vertical-Horizontal Wine Experience & Dinner \nSamsara Wine Co.\nWe’re taking over the winery\, a first for Epicurean SB ~ 11 wines and a barrel tasting! \nIn this awesome immersive and progressive evening\, guests will taste 9 different Samsara wines side by side in 3 flights\, journeying through vineyards and vintages in a vertical and horizontal tasing\, all while exploring Samsara’s tasting room and winery throughout the evening. This exploration of vineyard variations\, varietals and by vintage is a unique and delicious way to learn all about the spoils of great central coast vineyards and the fruits of their labors. \nEnjoy multiple food and wine courses in different settings\, starting in the tasting room with a Rose and ending in the barrel room with a barrel tasting of upcoming wines! The dinner for the evening and will channel Italian and French inspired fare and end with a late harvest Viognier! \nThe experience…\nStarting in the Tasting Room\, enjoy Samsara’s Rosé\, followed by a Chardonnay vertical flight coursed with freshly baked brioche and cultured butter. \nGuests will then move outdoors to the large communal tables\, and and experience the Pinot Noir and Syrah vineyard designates in two horizontal flights alongside individual plated appetizers\, such as mortadella mousse\, fennel spiced cashews\, and aged pecorino with olive-grape tapenade; followed by a plated dinner entree\, with family style sides. \nFollowing dinner the group will venture into the cellar for a barrel tasting\, and last but not least\, the night will finish with a sweet ending and Samsara’s late harvest Viognier.\n \nWines\n2020 Rose – Santa Barbara County\nChardonnay\n2017 Chardonnay Zotovich Vineyard\n2018 Chardonnay Zotovich Vineyard\n2019 Chardonnay Zotovich Vineyard\nPinot Noir\n2013 Pinot Noir – Las Hermanas Vineyard\n2013 Pinot Noir – Rancho La Viña Vineyard\n2013 Pinot Noir – Cargasacchi Vineyard\nSyrah\n2014 Syrah – Melville Vineyard\n2014 Syrah – Zotovich Vineyard\n2014 Syrah – Turner Vineyard\nBarrel Tasting\nLate harvest Viognier\nThe entree\, an individually plated 33-layer Lasagna with Roasted Garlic Béchamel\, Authentic Beef & Pork Bolognese\, Rustic Tomato Sauce\, Italian cheeses and more\, will be accompanied by family style salads and sides!
URL:https://epicureansb.com/event/progressive-wine-experience-dinner-samsara/
LOCATION:Samsara\, 6485 Calle Real Suite E\, Goleta\, CA\, 93117\, United States
CATEGORIES:Dinner,Education,Epicurean Santa Barbara,Wine
ATTACH;FMTTYPE=image/jpeg:https://epicureansb.com/wp-content/uploads/2021/07/Samsara.Winery.2P4A2494.Final_.Large_.WEB_.144.dpi_.Bottle.Branding.jpg
ORGANIZER;CN="ESB":MAILTO:support@epicureansb.com
GEO:34.4390259;-119.8516575
X-APPLE-STRUCTURED-LOCATION;VALUE=URI;X-ADDRESS=Samsara 6485 Calle Real Suite E Goleta CA 93117 United States;X-APPLE-RADIUS=500;X-TITLE=6485 Calle Real Suite E:geo:-119.8516575,34.4390259
END:VEVENT
END:VCALENDAR