BEGIN:VCALENDAR
VERSION:2.0
PRODID:-//Epicurean Santa Barbara - ECPv6.15.13//NONSGML v1.0//EN
CALSCALE:GREGORIAN
METHOD:PUBLISH
X-WR-CALNAME:Epicurean Santa Barbara
X-ORIGINAL-URL:https://epicureansb.com
X-WR-CALDESC:Events for Epicurean Santa Barbara
REFRESH-INTERVAL;VALUE=DURATION:PT1H
X-Robots-Tag:noindex
X-PUBLISHED-TTL:PT1H
BEGIN:VTIMEZONE
TZID:America/Los_Angeles
BEGIN:DAYLIGHT
TZOFFSETFROM:-0800
TZOFFSETTO:-0700
TZNAME:PDT
DTSTART:20200308T100000
END:DAYLIGHT
BEGIN:STANDARD
TZOFFSETFROM:-0700
TZOFFSETTO:-0800
TZNAME:PST
DTSTART:20201101T090000
END:STANDARD
BEGIN:DAYLIGHT
TZOFFSETFROM:-0800
TZOFFSETTO:-0700
TZNAME:PDT
DTSTART:20210314T100000
END:DAYLIGHT
BEGIN:STANDARD
TZOFFSETFROM:-0700
TZOFFSETTO:-0800
TZNAME:PST
DTSTART:20211107T090000
END:STANDARD
BEGIN:DAYLIGHT
TZOFFSETFROM:-0800
TZOFFSETTO:-0700
TZNAME:PDT
DTSTART:20220313T100000
END:DAYLIGHT
BEGIN:STANDARD
TZOFFSETFROM:-0700
TZOFFSETTO:-0800
TZNAME:PST
DTSTART:20221106T090000
END:STANDARD
END:VTIMEZONE
BEGIN:VEVENT
DTSTART;TZID=America/Los_Angeles:20210722T160000
DTEND;TZID=America/Los_Angeles:20210722T180000
DTSTAMP:20260425T172648
CREATED:20210528T222212Z
LAST-MODIFIED:20210720T190813Z
UID:10000207-1626969600-1626976800@epicureansb.com
SUMMARY:Chef Massimo and The Proper Bolognese!
DESCRIPTION:Chef Massimo and The Proper Bolognese!\n{Note Updated Start Time}\nFor the first time\, Chef Massimo Falsini is leading a demonstration for ESB members… \nLearn the age-old tradition of Tagliatelle al Ragù\, (also known as Bolognese)\, a rich and delicious slow cooked meat sauce which is one of the most celebrated dishes of Italy. From the dicing of vegetables to the pasta rolling\, observe Chef Massimo as he demonstrates the steps to create the best Bolognese. You’ll learn all the tips and tricks from a true master\, and of course\, enjoy his rendition of this legendary dish. Afterwards\, with all your new found knowledge\, try your hand at creating your own delectable Bolognese at home! Local Paso Robles and Santa Barbara Wines will also be served! Please Note: This is an indoor event! \n\nChef Massimo Falsini is the Executive Chef of Caruso’s at Rosewood Miramar Resort in Montecito\, CA. From a family of charcutiers\, Massimo began his culinary training at the age of 16 in Felice a Testaccio\, a historical Roman Trattoria\, and spent his youth in prestigious kitchens until reaching Harry’s Bar in Rome in 2004. Harry’s Bar was awarded a Michelin Star while Massimo was at the helm of the kitchen two years later. After many years of travels mastering his craft\, Massimo and his family decided to call the US home and moved to Florida 12 years ago. Chef Massimo then served as the Executive Chef at the Solage\, part of the Auberge Resorts Collection in Napa Valley\, where he oversaw the nine-time Michelin-Starred restaurant Solbar. Prior to this role\, Massimo held positions as the Executive Chef at the Four Seasons Resort Hualalai in the Big Island Hawaii\, and as the Executive Chef at the Waldorf Astoria Orlando. \n \nThe event will be held indoors at a private residence. We ask that all guests respect the personal space of others.
URL:https://epicureansb.com/event/chef-massimo-and-the-proper-bolognese/
LOCATION:Private Location\, Santa Barbara\, CA\, United States
CATEGORIES:Dinner,Education,Epicurean Santa Barbara
ATTACH;FMTTYPE=image/jpeg:https://epicureansb.com/wp-content/uploads/2021/05/Italian-Beef-Ragu-740px-Inside-the-Rustic-Kitchen-26.jpg
ORGANIZER;CN="ESB":MAILTO:support@epicureansb.com
GEO:34.4208305;-119.6981901
END:VEVENT
END:VCALENDAR