BEGIN:VCALENDAR
VERSION:2.0
PRODID:-//Epicurean Santa Barbara - ECPv6.15.13//NONSGML v1.0//EN
CALSCALE:GREGORIAN
METHOD:PUBLISH
X-ORIGINAL-URL:https://epicureansb.com
X-WR-CALDESC:Events for Epicurean Santa Barbara
REFRESH-INTERVAL;VALUE=DURATION:PT1H
X-Robots-Tag:noindex
X-PUBLISHED-TTL:PT1H
BEGIN:VTIMEZONE
TZID:America/Los_Angeles
BEGIN:DAYLIGHT
TZOFFSETFROM:-0800
TZOFFSETTO:-0700
TZNAME:PDT
DTSTART:20200308T100000
END:DAYLIGHT
BEGIN:STANDARD
TZOFFSETFROM:-0700
TZOFFSETTO:-0800
TZNAME:PST
DTSTART:20201101T090000
END:STANDARD
BEGIN:DAYLIGHT
TZOFFSETFROM:-0800
TZOFFSETTO:-0700
TZNAME:PDT
DTSTART:20210314T100000
END:DAYLIGHT
BEGIN:STANDARD
TZOFFSETFROM:-0700
TZOFFSETTO:-0800
TZNAME:PST
DTSTART:20211107T090000
END:STANDARD
BEGIN:DAYLIGHT
TZOFFSETFROM:-0800
TZOFFSETTO:-0700
TZNAME:PDT
DTSTART:20220313T100000
END:DAYLIGHT
BEGIN:STANDARD
TZOFFSETFROM:-0700
TZOFFSETTO:-0800
TZNAME:PST
DTSTART:20221106T090000
END:STANDARD
END:VTIMEZONE
BEGIN:VEVENT
DTSTART;TZID=America/Los_Angeles:20210512T180000
DTEND;TZID=America/Los_Angeles:20210512T200000
DTSTAMP:20260425T203154
CREATED:20210319T184554Z
LAST-MODIFIED:20210508T010808Z
UID:10000209-1620842400-1620849600@epicureansb.com
SUMMARY:Amy's Oaxacan Experience
DESCRIPTION:Amy’s Oaxacan Experience\nStories and Secret Dishes from One of Mexico’s most Vibrant Culinary Regions\nJoin ESB Founder Amy Baer Robinson as she shares the dishes\, beverages and stories from her time in Oaxaca. Learn about the sacred Mole Negro and how it ties into the traditions of the Zapotec culture\, and taste the unique flavors only found in chihuacles negros\, authentic stringy Oaxacan cheese\, masa from Oaxacan corn\, unique herbs such as Hoja Santa\, and of course\, smokey mezcal. In this multi-course dinner\, you’ll swoon over the depths of flavors\, and leave with a new appreciation and taste for these sacred dishes. Oaxacan inspired beverages will be served alongside the dinner. \nSara Jaqua\, Founder of Gone Native Travel will be joining us for the event to share her stories\, expertise\, and enthusiasm of Oaxacan Food and Culture. \nMenu to come!\nThe event will be held at a private location\, and guests will be seated in a spacious outdoor space\, with ample room for physical distancing. We ask that all guests respect the personal space of others and maintain distance during this time! ESB will be following strict guidelines to ensure the safety of all guests and staff.
URL:https://epicureansb.com/event/amys-oaxacan-experience/
LOCATION:Private Location\, Santa Barbara\, CA\, United States
CATEGORIES:Dinner,Education,Epicurean Santa Barbara
ATTACH;FMTTYPE=image/jpeg:https://epicureansb.com/wp-content/uploads/2021/03/FB3F237F-D38B-4529-B842-D90815E17291.jpg
ORGANIZER;CN="ESB":MAILTO:support@epicureansb.com
GEO:34.4208305;-119.6981901
END:VEVENT
END:VCALENDAR