BEGIN:VCALENDAR
VERSION:2.0
PRODID:-//Epicurean Santa Barbara - ECPv6.15.13//NONSGML v1.0//EN
CALSCALE:GREGORIAN
METHOD:PUBLISH
X-WR-CALNAME:Epicurean Santa Barbara
X-ORIGINAL-URL:https://epicureansb.com
X-WR-CALDESC:Events for Epicurean Santa Barbara
REFRESH-INTERVAL;VALUE=DURATION:PT1H
X-Robots-Tag:noindex
X-PUBLISHED-TTL:PT1H
BEGIN:VTIMEZONE
TZID:America/Los_Angeles
BEGIN:DAYLIGHT
TZOFFSETFROM:-0800
TZOFFSETTO:-0700
TZNAME:PDT
DTSTART:20190310T100000
END:DAYLIGHT
BEGIN:STANDARD
TZOFFSETFROM:-0700
TZOFFSETTO:-0800
TZNAME:PST
DTSTART:20191103T090000
END:STANDARD
BEGIN:DAYLIGHT
TZOFFSETFROM:-0800
TZOFFSETTO:-0700
TZNAME:PDT
DTSTART:20200308T100000
END:DAYLIGHT
BEGIN:STANDARD
TZOFFSETFROM:-0700
TZOFFSETTO:-0800
TZNAME:PST
DTSTART:20201101T090000
END:STANDARD
BEGIN:DAYLIGHT
TZOFFSETFROM:-0800
TZOFFSETTO:-0700
TZNAME:PDT
DTSTART:20210314T100000
END:DAYLIGHT
BEGIN:STANDARD
TZOFFSETFROM:-0700
TZOFFSETTO:-0800
TZNAME:PST
DTSTART:20211107T090000
END:STANDARD
BEGIN:DAYLIGHT
TZOFFSETFROM:-0800
TZOFFSETTO:-0700
TZNAME:PDT
DTSTART:20220313T100000
END:DAYLIGHT
BEGIN:STANDARD
TZOFFSETFROM:-0700
TZOFFSETTO:-0800
TZNAME:PST
DTSTART:20221106T090000
END:STANDARD
BEGIN:DAYLIGHT
TZOFFSETFROM:-0800
TZOFFSETTO:-0700
TZNAME:PDT
DTSTART:20230312T100000
END:DAYLIGHT
BEGIN:STANDARD
TZOFFSETFROM:-0700
TZOFFSETTO:-0800
TZNAME:PST
DTSTART:20231105T090000
END:STANDARD
BEGIN:DAYLIGHT
TZOFFSETFROM:-0800
TZOFFSETTO:-0700
TZNAME:PDT
DTSTART:20240310T100000
END:DAYLIGHT
BEGIN:STANDARD
TZOFFSETFROM:-0700
TZOFFSETTO:-0800
TZNAME:PST
DTSTART:20241103T090000
END:STANDARD
END:VTIMEZONE
BEGIN:VEVENT
DTSTART;TZID=America/Los_Angeles:20230805T103000
DTEND;TZID=America/Los_Angeles:20230805T123000
DTSTAMP:20260422T150709
CREATED:20230707T170820Z
LAST-MODIFIED:20230725T164657Z
UID:10000239-1691231400-1691238600@epicureansb.com
SUMMARY:Brunch Social at Live Oak Cafe
DESCRIPTION:ESB Brunch Social @ Live Oak Cafe\nJoin Epicureans for Brunch! \nCome meet friends old and new at Like Oak Cafe\, known for its delicious\, classic breakfast and brunch fare! The pricing is a deposit that includes your choice of entree from the full menu as well as beverage\, tax\, and gratuity. Guests are responsible for additional beverages or desserts. \nSee menu here!
URL:https://epicureansb.com/event/brunch-at-live-oak-cafe/
LOCATION:Live Oak Cafe\, 2220 Bath St.\, Santa Barbara\, CA\, 93105\, United States
CATEGORIES:Brunch,Epicurean Santa Barbara
ATTACH;FMTTYPE=image/jpeg:https://epicureansb.com/wp-content/uploads/2023/07/miso-croque-madame-104763-1-scaled.jpeg
ORGANIZER;CN="ESB":MAILTO:support@epicureansb.com
END:VEVENT
BEGIN:VEVENT
DTSTART;TZID=America/Los_Angeles:20230319T113000
DTEND;TZID=America/Los_Angeles:20230319T133000
DTSTAMP:20260422T150709
CREATED:20230209T150619Z
LAST-MODIFIED:20230317T161757Z
UID:10000232-1679225400-1679232600@epicureansb.com
SUMMARY:ESB's Bobo Brunch!
DESCRIPTION:ESB’s BOBO Brunch!\nWhat is Bobo\, you ask..? Surprisingly\, It has nothing to do with Star Wars.\nInstead\, it is short for “Bourgeois-Bohemian” or “one who espouses bohemian values but appreciates the bourgeois lifestyle”. \n…And that’s where our BOBO Brunch comes in.  \nChef Amy and her team invite guests to indulge in an extra special brunch experience. We’ll start with timeless brunch favorites\, and amp them up with the finer things in life. Think of Eggs Benedicts…with Lobster\, Chilaquiles…with Wagyu\, and Wood-fired Pizza…with Sous Vide Eggs & Caviar. \nDon’t be fooled by the fancy ingredients. We mean for this be a fun\, delightful experience that just so happens to channel the BOBO mentality of appreciating both the the finer things in the life\, as well as the delicious and soul-satisfying; always alongside fellow BOBOs who are simply enjoying life. \n….And what is a brunch without Brunch cocktails?! In true bohemian fashion we’ll have beverages inspired by this BOBO bash\, from coffee to mimosas to espresso martinis. \nSpring is just around the corner! The warm\, inviting rays from the sun beckon us outside\, and summon memories of bunching Al Fresco with hats\, sunglasses\, delicious food and refreshing beverages. Join us…An be a BOBO for a day. \nMenu To Come!\n    
URL:https://epicureansb.com/event/esbs-bobo-brunch/
LOCATION:Private Residence\, Santa Barbara\, CA\, 93110\, United States
CATEGORIES:Brunch,Cocktails,Epicurean Santa Barbara,Wine
ATTACH;FMTTYPE=image/jpeg:https://epicureansb.com/wp-content/uploads/2023/02/BrunchBanner3.jpg
ORGANIZER;CN="ESB":MAILTO:support@epicureansb.com
GEO:34.4208305;-119.6981901
END:VEVENT
BEGIN:VEVENT
DTSTART;TZID=America/Los_Angeles:20200208T110000
DTEND;TZID=America/Los_Angeles:20200208T140000
DTSTAMP:20260422T150709
CREATED:20191228T145958Z
LAST-MODIFIED:20200204T010837Z
UID:10000050-1581159600-1581170400@epicureansb.com
SUMMARY:Brunch Favorites Perfected with Chef Trent
DESCRIPTION:Take your brunch to the next level!\nIn this demonstration style class led by Chef Trent Shank of the Bear & Star\, learn how to maximize flavor with the ultimate brunch classics\, upgraded to offer utmost deliciousness! Learn easy techniques and tips to master four classic brunch favorites in a relaxed and fun setting\, and leave with the inspiration and knowledge to try some of the easy techniques and modern versions of these dishes! \nIN sure brunch fashion\, start with champagne\, mimosa\, or french-pressed coffee\, as Chef Trent provides a tutorial of how to create the best coffee for you and your loved ones..you’ll be amazed! (Newsflash…fresh beans are very important!) Then proceed to make the loftiest\, fluffiest soufflé style pancakes\, followed by no-hassle hollandaise\, and finish with the ultimate huevos rancheros. Guests will not only learn chef Trent’s techniques with hands-on volunteers\, but he will demonstrate how to handle common hurdles and hiccups! More on Chef Trent to come below! You’ll leave with the knowledge tools\, and tips to create an incredible brunch for yourself\, or for a party!\n \nMenu\nBlood Orange Mimosa’s\, French Press Coffee\, Orange Juice\nFrench-Press Coffee Demonstration\nLemon Poppy- Soufflé Pancakes\nwith powdered sugar\, whipped butter\, and maple syrup\nSanta Barbara Smoked Salmon Eggs Benedict with spinach\, and gruyere\nHuevos Rancheros served with crispy potatoes and sofrito vegetables\n    \nA native of Texas\, Chef Trent spent his summers on his grandparent’s small farm helping with the daily chores and enjoying Grandma Ruby’s southern cooking. After high school He moved to Vermont to attend New England Culinary Institute where his obsession for all aspects of where his food came from began. \nHe decided to move to California from Vermont for the beautiful weather with a vast growing season and eventually became the Executive Chef of The Bear and Star Restaurant. Ready for a break from the kitchen and an itch to spend more time in the soil\, he was given an opportunity to operate the former Bear and Star Farm as The Farm at Fess Parker Home ranch. His goals are to grow\, raise\, harvest and serve what the farm has to offer. To provide an experience that is unique and memorable while continuing his and his guests’ education through farming and culinary arts to help people reconnect with their food.
URL:https://epicureansb.com/event/brunch-favorites-perfected-with-chef-trent/
LOCATION:Private Location\, Santa Barbara\, CA\, United States
CATEGORIES:Brunch,Cooking,Education,Epicurean Santa Barbara,Lunch
ATTACH;FMTTYPE=image/jpeg:https://epicureansb.com/wp-content/uploads/2019/12/optimized-peteandgerrys_huevosrancheros_hr-copy.jpg
ORGANIZER;CN="ESB":MAILTO:support@epicureansb.com
GEO:34.4208305;-119.6981901
END:VEVENT
END:VCALENDAR