BEGIN:VCALENDAR
VERSION:2.0
PRODID:-//Epicurean Santa Barbara - ECPv6.15.13//NONSGML v1.0//EN
CALSCALE:GREGORIAN
METHOD:PUBLISH
X-WR-CALNAME:Epicurean Santa Barbara
X-ORIGINAL-URL:https://epicureansb.com
X-WR-CALDESC:Events for Epicurean Santa Barbara
REFRESH-INTERVAL;VALUE=DURATION:PT1H
X-Robots-Tag:noindex
X-PUBLISHED-TTL:PT1H
BEGIN:VTIMEZONE
TZID:America/Los_Angeles
BEGIN:DAYLIGHT
TZOFFSETFROM:-0800
TZOFFSETTO:-0700
TZNAME:PDT
DTSTART:20230312T100000
END:DAYLIGHT
BEGIN:STANDARD
TZOFFSETFROM:-0700
TZOFFSETTO:-0800
TZNAME:PST
DTSTART:20231105T090000
END:STANDARD
BEGIN:DAYLIGHT
TZOFFSETFROM:-0800
TZOFFSETTO:-0700
TZNAME:PDT
DTSTART:20240310T100000
END:DAYLIGHT
BEGIN:STANDARD
TZOFFSETFROM:-0700
TZOFFSETTO:-0800
TZNAME:PST
DTSTART:20241103T090000
END:STANDARD
BEGIN:DAYLIGHT
TZOFFSETFROM:-0800
TZOFFSETTO:-0700
TZNAME:PDT
DTSTART:20250309T100000
END:DAYLIGHT
BEGIN:STANDARD
TZOFFSETFROM:-0700
TZOFFSETTO:-0800
TZNAME:PST
DTSTART:20251102T090000
END:STANDARD
END:VTIMEZONE
BEGIN:VEVENT
DTSTART;TZID=America/Los_Angeles:20241206T173000
DTEND;TZID=America/Los_Angeles:20241206T173000
DTSTAMP:20260423T051116
CREATED:20240823T171644Z
LAST-MODIFIED:20241018T134622Z
UID:10000265-1733506200-1733506200@epicureansb.com
SUMMARY:Winemaker Evening: Andy Neja of Cairjn Wines
DESCRIPTION:Join us for an evening with Andy Neja of Cairjn Wines\nESB Welcomes winemaker Andy Neja of Cairjn Wines for our final Winemaker Event of the year! \nCairjn\, pronounced like “karn”\, is derived from the word\, “cairn” which means “a heap of stones piled up as a memorial or as a landmark.” The founder\, Andy Neja\, chose this name as a tribute to his family’s farming legacy and as a nod to the limestone-rich terrain of West Paso\, where their vineyards are located. \n\nCairjn is one of the newest wineries in Paso Robles\, and Andy’s new tasting room\, conveniently located just off Highway 46E\, opened its doors in August 2023. Andy is no newcomer to winemaking\, having been a key figure at Caliza since 2015. Now launching his own brand\, Cairjn Wine Cellars\, he brings years of experience and expertise to his latest venture. Now producing 850 cases annually\, Andy’s portfolio of wines reflects their commitment to quality and sustainability. \nESB is happy to debut Cairjn with you for a special evening of delicious chef crafted appetizers and Cairjn wines! Meet Andy\, taste his fabulous wines and learn about his journey into winemaking. Come for the wine\, stay for the winemaker\, leave with a bottle\, two\, or a case! \nFeatured Wines\n2023 Albariño – $42\n2021 Grenache – $75\n2021 Lopai Grenache – $85\n2021 Syrah – $75\n2021 Blend No.2 – $75 \nPassed Dishes\nDeliciousness coming soon! \n \nAfter volunteering a few days a week for eight months at Caliza Winery in Paso Robles\, the Andy Neja and his wife decided to move to the area to work with Carl at Caliza full-time. During that time Andy’s passion for wine and viticulture has not abated. The natural next step was taken in 2020 (8 harvests later) with the launching of his own project\, Cairjn Wine Cellars. \n \n “Come for the wine\, stay for the winemaker\, leave with a bottle!”
URL:https://epicureansb.com/event/winemaker-evening-andy-neja-of-cairjn-wines/
LOCATION:TBD\, Santa Barbara\, CA\, United States
CATEGORIES:Appetizers,Epicurean Santa Barbara,Wine
ATTACH;FMTTYPE=image/jpeg:https://epicureansb.com/wp-content/uploads/2024/08/we_caijrn-2.jpg
ORGANIZER;CN="ESB":MAILTO:support@epicureansb.com
GEO:34.4208305;-119.6981901
END:VEVENT
END:VCALENDAR