BEGIN:VCALENDAR
VERSION:2.0
PRODID:-//Epicurean Santa Barbara - ECPv6.15.13//NONSGML v1.0//EN
CALSCALE:GREGORIAN
METHOD:PUBLISH
X-ORIGINAL-URL:https://epicureansb.com
X-WR-CALDESC:Events for Epicurean Santa Barbara
REFRESH-INTERVAL;VALUE=DURATION:PT1H
X-Robots-Tag:noindex
X-PUBLISHED-TTL:PT1H
BEGIN:VTIMEZONE
TZID:America/Los_Angeles
BEGIN:DAYLIGHT
TZOFFSETFROM:-0800
TZOFFSETTO:-0700
TZNAME:PDT
DTSTART:20210314T100000
END:DAYLIGHT
BEGIN:STANDARD
TZOFFSETFROM:-0700
TZOFFSETTO:-0800
TZNAME:PST
DTSTART:20211107T090000
END:STANDARD
BEGIN:DAYLIGHT
TZOFFSETFROM:-0800
TZOFFSETTO:-0700
TZNAME:PDT
DTSTART:20220313T100000
END:DAYLIGHT
BEGIN:STANDARD
TZOFFSETFROM:-0700
TZOFFSETTO:-0800
TZNAME:PST
DTSTART:20221106T090000
END:STANDARD
BEGIN:DAYLIGHT
TZOFFSETFROM:-0800
TZOFFSETTO:-0700
TZNAME:PDT
DTSTART:20230312T100000
END:DAYLIGHT
BEGIN:STANDARD
TZOFFSETFROM:-0700
TZOFFSETTO:-0800
TZNAME:PST
DTSTART:20231105T090000
END:STANDARD
END:VTIMEZONE
BEGIN:VEVENT
DTSTART;TZID=America/Los_Angeles:20221104T170000
DTEND;TZID=America/Los_Angeles:20221104T190000
DTSTAMP:20260424T164843
CREATED:20221007T161726Z
LAST-MODIFIED:20221028T165441Z
UID:10000224-1667581200-1667588400@epicureansb.com
SUMMARY:ESB 5 year Anniversary Social Hour
DESCRIPTION:ESB 5 yr Anniversary Social Hour \nJoin us for a casual holiday 5 year Anniversary Social Hour with members and guests! Connect with members old and new over appetizers\, wine\, beverages and celebrate Santa Barbara’s unique food and beverage social club! It is because of our members that we have thrived through fires\, shutdowns\, pandemics and have continued to foster friendships through fun\, educational\, and always delicious food & wine events! Wish to stay for dinner? Following the social hour is Chef Amy’s Seasonal Supper! \nHere’s a few photos from our last 5 years!       
URL:https://epicureansb.com/event/esb-5-year-anniversary-social-hour/
LOCATION:Private Residence\, Santa Barbara\, CA\, 93110\, United States
CATEGORIES:Appetizers,Beer,Celebration,Cocktails,Epicurean Santa Barbara,Wine
ATTACH;FMTTYPE=image/jpeg:https://epicureansb.com/wp-content/uploads/2022/10/5-Yrs-ESB-Horizontal.jpg
ORGANIZER;CN="ESB":MAILTO:support@epicureansb.com
GEO:34.4208305;-119.6981901
END:VEVENT
END:VCALENDAR